BEGIN:VCALENDAR
VERSION:2.0
PRODID:-//Space Innovation - ECPv6.15.18//NONSGML v1.0//EN
CALSCALE:GREGORIAN
METHOD:PUBLISH
X-WR-CALNAME:Space Innovation
X-ORIGINAL-URL:https://space-innovation.ch
X-WR-CALDESC:Events for Space Innovation
REFRESH-INTERVAL;VALUE=DURATION:PT1H
X-Robots-Tag:noindex
X-PUBLISHED-TTL:PT1H
BEGIN:VTIMEZONE
TZID:UTC
BEGIN:STANDARD
TZOFFSETFROM:+0000
TZOFFSETTO:+0000
TZNAME:UTC
DTSTART:20230101T000000
END:STANDARD
END:VTIMEZONE
BEGIN:VEVENT
DTSTART;TZID=UTC:20250514T080000
DTEND;TZID=UTC:20250515T170000
DTSTAMP:20260425T172215
CREATED:20250409T124228Z
LAST-MODIFIED:20250409T124228Z
UID:22002-1747209600-1747328400@space-innovation.ch
SUMMARY:CYSAT Europe
DESCRIPTION:CYSAT has been designed to tackle both the technical complexities of space cybersecurity and the related business challenges of the industry.    \nJoin us for a 2-day event featuring engaging keynotes and panels\, offering in-depth discussions on various topics\, mainly targeting space engineers. Our lineup includes space industry leaders\, hackers\, and cybersecurity experts addressing the latest trends related to space assets and data security.
URL:https://space-innovation.ch/event/cysat-europe/
LOCATION:Station F\, 5 Parvis Alan Turing 75013\, Paris\, France
ATTACH;FMTTYPE=image/jpeg:https://space-innovation.ch/wp-content/uploads/2025/04/sysat.jpg
END:VEVENT
BEGIN:VEVENT
DTSTART;TZID=UTC:20241219T193000
DTEND;TZID=UTC:20241219T220000
DTSTAMP:20260425T172215
CREATED:20241202T075219Z
LAST-MODIFIED:20241202T075219Z
UID:21360-1734636600-1734645600@space-innovation.ch
SUMMARY:Swiss Apollo : de la Suisse à la Lune with Marco Sieber and Claude Nicollier
DESCRIPTION:Le 19 Decembre 2024\, le SwissTech Convention Center aura l’honneur d’accueillir Claude Nicollier\, Marco Sieber et d’autres invités vedettes pour une soirée historique et exceptionnelle. Le SwissTech Convention Center et SwissApollo vous invitent à passer deux heures d’enchantement. \nLors de cette soirée inédite\, nous allons célébrer le 80ème anniversaire de notre héros national\, Claude Nicollier\, en retraçant les points forts de sa vie professionnelle et privée . Le vétéran de quatre vols spatiaux accueillera en personne sur scène son successeur\, Marco Sieber. Ce sera la première apparition de notre nouvel astronaute suisse devant le grand public. Il s’agira aussi de présenter un moment d’échange entre les deux hommes\, une rencontre historique marquée par une passation de témoin symbolique. \n\n\n\n\n\n REGISTER
URL:https://space-innovation.ch/event/swiss-apollo-de-la-suisse-a-la-lune-with-marco-sieber-and-claude-nicollier/
LOCATION:SwissTech\, SwissTech\, EPFL\, Switzerland
ATTACH;FMTTYPE=image/png:https://space-innovation.ch/wp-content/uploads/2024/12/Swiss-lune-2.png
END:VEVENT
END:VCALENDAR