BEGIN:VCALENDAR
VERSION:2.0
PRODID:-//Space Innovation - ECPv6.15.18//NONSGML v1.0//EN
CALSCALE:GREGORIAN
METHOD:PUBLISH
X-ORIGINAL-URL:https://space-innovation.ch
X-WR-CALDESC:Events for Space Innovation
REFRESH-INTERVAL;VALUE=DURATION:PT1H
X-Robots-Tag:noindex
X-PUBLISHED-TTL:PT1H
BEGIN:VTIMEZONE
TZID:UTC
BEGIN:STANDARD
TZOFFSETFROM:+0000
TZOFFSETTO:+0000
TZNAME:UTC
DTSTART:20240101T000000
END:STANDARD
END:VTIMEZONE
BEGIN:VEVENT
DTSTART;TZID=UTC:20250630T080000
DTEND;TZID=UTC:20250704T170000
DTSTAMP:20260425T110941
CREATED:20250409T123858Z
LAST-MODIFIED:20250409T123858Z
UID:21998-1751270400-1751648400@space-innovation.ch
SUMMARY:EUCASS 2025
DESCRIPTION:20th Anniversary – 11th European Conference for AeroSpace Sciences (EUCASS)\n \nEUCASS 2025 represents an exceptional opportunity to reach a uniquely targeted audience and demonstrate your commitment to the future of aeronautics and space. Do not miss this chance to position your organisation at the forefront. We trust your presence at EUCASS 2025 is vital for all players and invite you to join us preparing it. Your organization can participate at various levels.
URL:https://space-innovation.ch/event/eucass-2025/
LOCATION:Congress Center Auditorium della Tecnica\, Congress Center Auditorium della Tecnica\, Viale Umberto Tupini 65\, Rome\, Italy
ATTACH;FMTTYPE=image/jpeg:https://space-innovation.ch/wp-content/uploads/2025/04/EUCASS-2025.jpg
END:VEVENT
END:VCALENDAR