BEGIN:VCALENDAR
VERSION:2.0
PRODID:-//Space Innovation - ECPv6.15.18//NONSGML v1.0//EN
CALSCALE:GREGORIAN
METHOD:PUBLISH
X-WR-CALNAME:Space Innovation
X-ORIGINAL-URL:https://space-innovation.ch
X-WR-CALDESC:Events for Space Innovation
REFRESH-INTERVAL;VALUE=DURATION:PT1H
X-Robots-Tag:noindex
X-PUBLISHED-TTL:PT1H
BEGIN:VTIMEZONE
TZID:UTC
BEGIN:STANDARD
TZOFFSETFROM:+0000
TZOFFSETTO:+0000
TZNAME:UTC
DTSTART:20240101T000000
END:STANDARD
END:VTIMEZONE
BEGIN:VEVENT
DTSTART;TZID=UTC:20250526T080000
DTEND;TZID=UTC:20250527T170000
DTSTAMP:20260425T135321
CREATED:20250409T091416Z
LAST-MODIFIED:20250409T122736Z
UID:21941-1748246400-1748365200@space-innovation.ch
SUMMARY:Space Community Days Switzerland 2025
DESCRIPTION:2-day event of value-added exchanges and opportunities in the space field. Practical and useful insights for space industries and newcomers in the domain. \nThis event is dedicated to Swiss organisations with invited international speakers \nThe event will be held at the SwissTech Convention Center on May 26-27 and will offer: \n    Presentations over 2 days: the agenda might be subject to minor changes.\n    Physical Face-2-Face (B2B) meeting sessions\n    Celebration of the 50th anniversary of ESA on Monday evening from 4:30 to 6:30.  \nRegister
URL:https://space-innovation.ch/event/space-community-days-switzerland-2025/
LOCATION:SwissTech\, SwissTech\, EPFL\, Switzerland
ATTACH;FMTTYPE=image/png:https://space-innovation.ch/wp-content/uploads/2025/04/spacecommunitydays.png
END:VEVENT
END:VCALENDAR